BEGIN:VCALENDAR
VERSION:2.0
PRODID:icalendar-ruby
CALSCALE:GREGORIAN
METHOD:PUBLISH
BEGIN:VEVENT
DTSTAMP:20260422T213632Z
UID:20-326127@newhopeinchrist.com
DTSTART:20261030T003000Z
DTEND:20261030T013000Z
CLASS:PUBLIC
CREATED:20260422T145832
DESCRIPTION:Join us every Thursday!\nThe goal of this Bible study is to exp
 lore God’s Word deeply\, helping to strengthen your faith by uncovering 
 the lessons the Lord wants to teach us. It’s designed for new believers 
 seeking to learn how to study the Bible and for seasoned Christians who de
 sire to refine and enrich their study habits. ALL ARE WELCOME! 
LAST-MODIFIED:20260422T145832
LOCATION:6842 Wadsworth Blvd. Arvada\, CO 80003
SUMMARY:Thursday Night Bible Study
URL;VALUE=URI:https://www.newhopeinchrist.com/events/thursday-night-bible-s
 tudy/2026-10-29
END:VEVENT
END:VCALENDAR
