BEGIN:VCALENDAR
VERSION:2.0
PRODID:icalendar-ruby
CALSCALE:GREGORIAN
METHOD:PUBLISH
BEGIN:VEVENT
DTSTAMP:20260424T041129Z
UID:12-327809@newhopeinchrist.com
DTSTART:20261025T160000Z
DTEND:20261025T180000Z
CLASS:PUBLIC
CREATED:20260423T204622
DESCRIPTION:
LAST-MODIFIED:20260423T204622
LOCATION:6842 Wadsworth Blvd. Arvada\, CO 80003
SUMMARY:Sunday Service
URL;VALUE=URI:https://www.newhopeinchrist.com/events/sunday-service/2026-10
 -25
END:VEVENT
END:VCALENDAR
