BEGIN:VCALENDAR
VERSION:2.0
PRODID:icalendar-ruby
CALSCALE:GREGORIAN
METHOD:PUBLISH
BEGIN:VEVENT
DTSTAMP:20260424T023703Z
UID:12-327586@newhopeinchrist.com
DTSTART:20261018T160000Z
DTEND:20261018T180000Z
CLASS:PUBLIC
CREATED:20260423T175203
DESCRIPTION:
LAST-MODIFIED:20260423T175203
LOCATION:6842 Wadsworth Blvd. Arvada\, CO 80003
SUMMARY:Sunday Service
URL;VALUE=URI:https://www.newhopeinchrist.com/events/sunday-service/2026-10
 -18
END:VEVENT
END:VCALENDAR
