BEGIN:VCALENDAR
VERSION:2.0
PRODID:icalendar-ruby
CALSCALE:GREGORIAN
METHOD:PUBLISH
BEGIN:VEVENT
DTSTAMP:20260423T233546Z
UID:12-327362@newhopeinchrist.com
DTSTART:20261004T160000Z
DTEND:20261004T180000Z
CLASS:PUBLIC
CREATED:20260423T145846
DESCRIPTION:
LAST-MODIFIED:20260423T145846
LOCATION:6842 Wadsworth Blvd. Arvada\, CO 80003
SUMMARY:Sunday Service
URL;VALUE=URI:https://www.newhopeinchrist.com/events/sunday-service/2026-10
 -04
END:VEVENT
END:VCALENDAR
