BEGIN:VCALENDAR
VERSION:2.0
PRODID:icalendar-ruby
CALSCALE:GREGORIAN
METHOD:PUBLISH
BEGIN:VEVENT
DTSTAMP:20260423T215639Z
UID:12-327361@newhopeinchrist.com
DTSTART:20260927T160000Z
DTEND:20260927T180000Z
CLASS:PUBLIC
CREATED:20260423T145846
DESCRIPTION:
LAST-MODIFIED:20260423T145846
LOCATION:6842 Wadsworth Blvd. Arvada\, CO 80003
SUMMARY:Sunday Service
URL;VALUE=URI:https://www.newhopeinchrist.com/events/sunday-service/2026-09
 -27
END:VEVENT
END:VCALENDAR
